BEGIN:VCALENDAR
PRODID:-//github.com/rianjs/ical.net//NONSGML ical.net 4.0//EN
VERSION:2.0
BEGIN:VEVENT
CATEGORIES:Cultural
CATEGORIES:Engagement
CATEGORIES:Growth
CATEGORIES:Networking
CATEGORIES:Educational
CATEGORIES:School Spirit/Affinity
CATEGORIES:Meetings
CATEGORIES:Oral/Written Communication
CATEGORIES:Global/Intercultural Fluency
DESCRIPTION:\n\n\nRelax and practice your Spanish having cafecito and past
 elitos for FREE! \n \n\n\n\n\nHosted by: \n\nAdditional Information can b
 e found at: https://fiu.campuslabs.com/engage/event/12072280
DTEND:20260420T200000Z
DTSTAMP:20260420T000514Z
DTSTART:20260420T190000Z
LOCATION:SIPA II 216
SEQUENCE:0
STATUS:CONFIRMED
SUMMARY:LA HORA DEL CAFÉ
UID:https://fiu.campuslabs.com/engage/event/12072280
URL:https://fiu.campuslabs.com/engage/event/12072280
END:VEVENT
END:VCALENDAR
