BEGIN:VCALENDAR
PRODID:-//github.com/rianjs/ical.net//NONSGML ical.net 4.0//EN
VERSION:2.0
BEGIN:VEVENT
CATEGORIES:Social
CATEGORIES:Community
DESCRIPTION:The Business Doctoral Student Association (BDSA) aims to creat
 e a close-knit academic community of doctoral students and to nourish opp
 ortunities for cross-departmental research within the College of Business
  of Florida International University. The proposal of this new event resp
 onds to two main considerations: (i) Research undertaken by doctoral stud
 ents is in most cases the result of collaborative efforts and supervision
  of faculty at their respective departments and (ii) The ultimate purpose
  of doctoral students working in research is to communicate the findings 
 to the academic community at large. Through the organization of this even
 t\, the BDSA pursues the tightening of the relationships of doctoral stud
 ents with faculty at Florida International University and also with the a
 cademic community\, including other universities.During the event\, docto
 ral students from the College of Business will meet\, socialize\, and sha
 re their research and findings.\n\nHosted by: Business Doctoral Student A
 ssociation\n\nAdditional Information can be found at: https://fiu.campusl
 abs.com/engage/event/12075040
DTEND:20260424T180000Z
DTSTAMP:20260424T083953Z
DTSTART:20260424T160000Z
GEO:25.756750;-80.377750
LOCATION:Chili's Graham Center
SEQUENCE:0
STATUS:CONFIRMED
SUMMARY:BDSA Chili's Hangout
UID:https://fiu.campuslabs.com/engage/event/12075040
URL:https://fiu.campuslabs.com/engage/event/12075040
X-HOSTS:Business Doctoral Student Association
END:VEVENT
END:VCALENDAR
