BEGIN:VCALENDAR
PRODID:-//github.com/rianjs/ical.net//NONSGML ical.net 4.0//EN
VERSION:2.0
BEGIN:VEVENT
CATEGORIES:ThoughtfulLearning
CATEGORIES:Educational
DESCRIPTION:Japanese comfort food through the art of crispy\, flavorful Ka
 raage. Members will learn traditional marinating and frying techniques wh
 ile experiencing the balance of umami\, texture\, and simplicity that def
 ines Japanese cuisine. \n\nHosted by: The Culinary Club at FIU\n\nAdditio
 nal Information can be found at: https://fiu.campuslabs.com/engage/event/
 12079482
DTEND:20260420T223000Z
DTSTAMP:20260420T000513Z
DTSTART:20260420T200000Z
GEO:25.909620;-80.139650
LOCATION:Florida International University BBC
SEQUENCE:0
STATUS:CONFIRMED
SUMMARY:Japanese & Karaage
UID:https://fiu.campuslabs.com/engage/event/12079482
URL:https://fiu.campuslabs.com/engage/event/12079482
X-HOSTS:The Culinary Club at FIU
END:VEVENT
END:VCALENDAR
