BEGIN:VCALENDAR
PRODID:-//github.com/rianjs/ical.net//NONSGML ical.net 4.0//EN
VERSION:2.0
BEGIN:VEVENT
CATEGORIES:ThoughtfulLearning
CATEGORIES:Student Success
CATEGORIES:Leadership Development
CATEGORIES:Educational
CATEGORIES:Greek Life
CATEGORIES:Career Management
DESCRIPTION:Are you interested in learning how to be an effective and info
 rmed citizen? Want to gain practical skills on how to interact successful
 ly with policymakers at all levels of government?\n \nRegister for the Sp
 ring 2026 micro credential:\nFundamentals of Public Advocacy for Informed
  Citizenswith instructor Senator Anitere Flores\n \nRolling Admissions - 
 Save your spot by registering TODAY!\nREGISTER HERE \nNOTE: Only availabl
 e to current FIU students\n \nThis is a FULLY ONLINE\, SELF-PACED program
 . \n \nNote that this micro credential fulfills prerequisite requirements
  for the Green School Spring 2026 semester in Washington\, D.C. program.\
 n \nThis course will teach you how to: \n\nBuild the skills of an effecti
 ve\, informed civic leader\nLearn how to engage policymakers at the local
 \, state\, and federal levels\nIdentify the right level of government for
  any issue\nCommunicate your position clearly\, confidently\, and persuas
 ively\nRespond strategically to policymakers and staff\nDevelop lasting r
 elationships with elected officials\nAdvocate effectively for real-world 
 policy outcomes\n\nDon’t miss your chance to learn more about public advo
 cacy and leadership!\n \nAbout Senator Anitere Flores:\nSenator Flores is
  a senior fellow at JGI's Policy lab in partnership with the Maurice A. F
 erré Institute for Civic Leadership. Senator Flores served in the Florida
  House from 2004-2010. During her career in the Florida House\, Senator F
 lores served as Deputy Majority Leader\, Chair of the PreK-12 Appropriati
 ons Committee\, and Chair of the PreK-12 Policy Committee. Prior to being
  elected a State Representative\, she spent two years advocating for univ
 ersity students in her district as Director of State Relations for Florid
 a International University.\n\nHosted by: Jack D. Gordon Institute for Pu
 blic Policy\n\nOnline Location: https://us19.list-manage.com/survey?u=ff2
 e53c62dd0d3861c749bb81&id=5f6eb878b3&attribution=false\n\nAdditional Info
 rmation can be found at: https://fiu.campuslabs.com/engage/event/12103089
DTEND:20260424T213000Z
DTSTAMP:20260424T083954Z
DTSTART:20260424T203000Z
LOCATION:Online
SEQUENCE:0
STATUS:CONFIRMED
SUMMARY:Fundamentals of Public Advocacy for Informed Citizens with instruc
 tor Senator Anitere Flores
UID:https://fiu.campuslabs.com/engage/event/12103089
URL:https://fiu.campuslabs.com/engage/event/12103089
X-HOSTS:Jack D. Gordon Institute for Public Policy
END:VEVENT
END:VCALENDAR
