BEGIN:VCALENDAR
PRODID:-//github.com/rianjs/ical.net//NONSGML ical.net 4.0//EN
VERSION:2.0
BEGIN:VEVENT
CATEGORIES:ThoughtfulLearning
CATEGORIES:Educational
DESCRIPTION:\nAttend our monthly meetings to learn more about the Nicole W
 ertheim College of Nursing & Health Sciences graduate nursing programs - 
 degrees that advance your nursing practice and progress your career from 
 caregiver to manager to unit leader and beyond.\nAt this session you will
  hear more about our \n\nDual MSN Nurse Practitioner & Nurse Educator Cer
 tificate \nDoctor of Nursing Practice (DNP) - Post Master Science Nursing
  \nMaster Science Nursing - Nurse Educator\nPost-Graduate Certificate - N
 urse Educator\n\nRegister for an upcoming date to receive the session Zoo
 m link: https://go.fiu.edu/GradNEInfo\nShould you need an ADA accommodati
 on to participate in a University event\, program\, or activity or need t
 o request materials in an accessible format\, please contact FIU’s Office
  of Civil Rights Compliance and Accessibility (CRCA) at 305-348-2785 or a
 ccommodations@fiu.edu. All requests for ADA accommodation or accessible m
 aterials for this event must be submitted to CRCA at least seven (7) busi
 ness days prior to the event or at the earliest possible opportunity\n\n\
 nHosted by: \n\nOnline Location: https://go.fiu.edu/GradNEInfo\n\nAdditio
 nal Information can be found at: https://fiu.campuslabs.com/engage/event/
 12149572
DTEND:20260421T163000Z
DTSTAMP:20260420T000417Z
DTSTART:20260421T153000Z
LOCATION:Online
SEQUENCE:0
STATUS:CONFIRMED
SUMMARY:Dual MSN NP & NE Certificate\, DNP – Post MSN\, MSN Nurse Educator
 \, Post-Graduate Certificate – Nurse Educator
UID:https://fiu.campuslabs.com/engage/event/12149572
URL:https://fiu.campuslabs.com/engage/event/12149572
END:VEVENT
END:VCALENDAR
