BEGIN:VCALENDAR
PRODID:-//github.com/rianjs/ical.net//NONSGML ical.net 4.0//EN
VERSION:2.0
BEGIN:VEVENT
CATEGORIES:Social
CATEGORIES:Engagement
CATEGORIES:Quality
CATEGORIES:Growth
CATEGORIES:Student Organizations
CATEGORIES:Leadership Development
CATEGORIES:Diversity
CATEGORIES:Networking
CATEGORIES:Recreation
CATEGORIES:Educational
CATEGORIES:School Spirit/Affinity
CATEGORIES:Community
CATEGORIES:Arts
CATEGORIES:Outdoor/Indoor
CATEGORIES:Teamwork/Collaboration
DESCRIPTION:Let’s end the semester with a BANG at Koneko\, Geek Culture Cl
 ub’s traditional mini-convention! Hosted by a club that’s been active sin
 ce Fall 2013\, Koneko has been bringing fun\, creativity\, and community 
 together for over a decade—and this Spring 2026\, it’s leveling up in a b
 ig way.\nFor the first time\, Koneko will take over the GC Ballrooms\, tr
 ansforming the space into a full convention-style experience. Expect more
  activities\, more booths\, and more things to explore—just like a real c
 on\, right here on campus. And for FREE!\nCelebrate the end of the semest
 er by diving into all corners of geek culture alongside friends and fello
 w fans. Here’s what you can look forward to:\n✨ Interactive activities\, 
 games\, and panels🎮 Video games and free play🛍 Vendors selling unique\,
  geeky merchandise📣 Club tablings showcasing their organizations👗 Costu
 me runway & competition\nCompete\, shop\, play\, cosplay\, or just soak i
 n the energy—Koneko has something for everyone. So don't miss out!\nThis 
 event is open to all students and funded by SGA.\n\nHosted by: Disabled S
 tudent Union\, Filipino Student Association\, Geek Culture Club\, Otaku R
 esearch Club\, Panther Esports\, Worn/Reborn: Alternative Fashion & Upcyc
 ling Club\n\nAdditional Information can be found at: https://fiu.campusla
 bs.com/engage/event/12262037
DTEND:20260420T010000Z
DTSTAMP:20260420T000348Z
DTSTART:20260419T190000Z
LOCATION:Graham Center Ballrooms
SEQUENCE:0
STATUS:CONFIRMED
SUMMARY:Koneko Spring '26
UID:https://fiu.campuslabs.com/engage/event/12262037
URL:https://fiu.campuslabs.com/engage/event/12262037
X-HOSTS:Worn/Reborn: Alternative Fashion & Upcycling Club
END:VEVENT
END:VCALENDAR
