BEGIN:VCALENDAR
PRODID:-//github.com/rianjs/ical.net//NONSGML ical.net 4.0//EN
VERSION:2.0
BEGIN:VEVENT
CATEGORIES:CommunityService
CATEGORIES:Teamwork/Collaboration
DESCRIPTION:We will hold a donation drive to collect items that will be th
 en donated to the homeless.\n\nHosted by: Health Empowerment Aid and Life
  Saving Supplies \n\nAdditional Information can be found at: https://fiu.
 campuslabs.com/engage/event/12347234
DTEND:20260424T170000Z
DTSTAMP:20260424T083942Z
DTSTART:20260330T160000Z
LOCATION:Online
SEQUENCE:0
STATUS:CONFIRMED
SUMMARY:Donation Drive
UID:https://fiu.campuslabs.com/engage/event/12347234
URL:https://fiu.campuslabs.com/engage/event/12347234
X-HOSTS:Health Empowerment Aid and Life Saving Supplies
END:VEVENT
END:VCALENDAR
