BEGIN:VCALENDAR
PRODID:-//github.com/rianjs/ical.net//NONSGML ical.net 4.0//EN
VERSION:2.0
BEGIN:VEVENT
CATEGORIES:Social
CATEGORIES:Student Success
DESCRIPTION:The Higher Education Student Affairs (HESA) program proudly in
 vites you to celebrate the accomplishments of our graduating cohort at th
 e 2026 Master of Science in Higher Education Administration Hooding Cerem
 ony at Florida International University.\nThis special event honors the d
 edication\, resilience\, and academic achievements of our graduates as th
 ey reach this important milestone in their professional journey. During t
 he ceremony\, faculty members will formally hood each graduate\, symboliz
 ing their transition into the field of higher education and student affai
 rs.\nThe hooding ceremony serves as an opportunity for graduates\, family
  members\, friends\, faculty\, and staff to come together in recognition 
 of the hard work and commitment that define the HESA community. The progr
 am will include remarks from faculty and student representatives\, as wel
 l as the formal recognition of each graduate.\nWe look forward to celebra
 ting the impact our graduates will make as future leaders\, advocates\, a
 nd changemakers in higher education.\n \n** Open to all students\, funded
  by SGA. **\nShould you need ADA accommodation to participate in a Univer
 sity event\, program\, or activity or need to request materials in an acc
 essible format\, please contact FIU's Office of Civil Rights Compliance a
 nd Accessibility (CRCA) at 305-348-2785 or accomodations@fiu.edu. All req
 uests for ADA accommodation or accessible materials for this event must b
 e submitted to CRCA at least (7) business days prior to the event or at t
 he earliest opportunity.\n\nHosted by: Higher Education Student Associati
 on - HESA\n\nAdditional Information can be found at: https://fiu.campusla
 bs.com/engage/event/12362491
DTEND:20260424T210000Z
DTSTAMP:20260424T083954Z
DTSTART:20260424T190000Z
GEO:25.756690;-80.372070
LOCATION:Ernest R. Graham University Center
SEQUENCE:0
STATUS:CANCELLED
SUMMARY:HESA - 2026  Hooding Ceremony
UID:https://fiu.campuslabs.com/engage/event/12362491
URL:https://fiu.campuslabs.com/engage/event/12362491
X-HOSTS:Higher Education Student Association - HESA
END:VEVENT
END:VCALENDAR
