BEGIN:VCALENDAR
PRODID:-//github.com/rianjs/ical.net//NONSGML ical.net 4.0//EN
VERSION:2.0
BEGIN:VEVENT
CATEGORIES:ThoughtfulLearning
CATEGORIES:Lectures
CATEGORIES:Leadership Development
CATEGORIES:Networking
CATEGORIES:Educational
CATEGORIES:Political
DESCRIPTION:The Mayors of the Americas Summit brings together mayors\, mun
 icipal leaders\, business executives\, investors\, and multilateral organ
 izations to advance the role of cities as engines of economic growth and 
 institutional innovation across the hemisphere.\nThe Summit provides a pr
 actical\, results-oriented platform to exchange experiences\, identify sc
 alable solutions\, and strengthen collaboration among cities and strategi
 c stakeholders\, turning urban challenges into opportunities for sustaina
 ble growth and improved quality of life.\nShould you need an ADA accommod
 ation to participate in a University event\, program\, or activity or nee
 d to request materials in an accessible format\, please contact FIU's Off
 ice of Civil Rights (OCR) at 305-348-2785 or accommodations@fiu.edu. All 
 requests for ADA accommodation or accessible materials for this event mus
 t be submitted to OCR at least seven (7) business days prior to the event
  or at the earliest possible opportunity.\n\nHosted by:  Adam Smith Cente
 r for Economic Freedom\n\nAdditional Information can be found at: https:/
 /fiu.campuslabs.com/engage/event/12383366
DTEND:20260424T210000Z
DTSTAMP:20260424T083942Z
DTSTART:20260423T130000Z
LOCATION:Miami\, FL
SEQUENCE:0
STATUS:CONFIRMED
SUMMARY:Mayors of the Americas Summit
UID:https://fiu.campuslabs.com/engage/event/12383366
URL:https://fiu.campuslabs.com/engage/event/12383366
X-HOSTS: Adam Smith Center for Economic Freedom
END:VEVENT
END:VCALENDAR
