BEGIN:VCALENDAR
PRODID:-//github.com/rianjs/ical.net//NONSGML ical.net 4.0//EN
VERSION:2.0
BEGIN:VEVENT
CATEGORIES:ThoughtfulLearning
DESCRIPTION:General Body Meeting 2 will serve as a continue introduction t
 o the club’s mission\, goals\, and upcoming activities focused on wellnes
 s and holistic health. During this meeting\, members will learn about wha
 t integrative medicine is and how it combines lifestyle\, preventive care
 \, and natural approaches to support overall well-being\n\nHosted by: Int
 egrative medicine undergraduate club\n\nAdditional Information can be fou
 nd at: https://fiu.campuslabs.com/engage/event/12392791
DTEND:20260421T000000Z
DTSTAMP:20260420T000529Z
DTSTART:20260420T230000Z
GEO:25.756750;-80.377750
LOCATION:Green Library
SEQUENCE:0
STATUS:CANCELLED
SUMMARY:Integrative Medicine Club GBM #2
UID:https://fiu.campuslabs.com/engage/event/12392791
URL:https://fiu.campuslabs.com/engage/event/12392791
X-HOSTS:Integrative medicine undergraduate club
END:VEVENT
END:VCALENDAR
