BEGIN:VCALENDAR
PRODID:-//github.com/rianjs/ical.net//NONSGML ical.net 4.0//EN
VERSION:2.0
BEGIN:VEVENT
CATEGORIES:Social
DESCRIPTION:Who says breakfast is only for the morning? Join us for a nigh
 t of pancakes\, eggs\, and syrup as we turn campus into a late-night dine
 r hangout. Whether you need a break from cramming for finals or just wann
 a hang\, we got a plate with your name on it! Come fuel up and unwind!\nW
 e have fun activities\, good food\, and great giveaways!\n📍 Roary's Bay 
 Cafe (BBC)📅 April 20th⏰ 7:00 PM – 10:00 PM\nShould you need an ADA accom
 modation to participate in a university event\, program\, or activity or 
 need to request materials in an accessible format\, please contact FIU’s 
 Office of Civil Rights Compliance and Accessibility (CRCA) at 305-348-278
 5 or accomodations@fiu.edu. All requests for ADA accommodation or accessi
 ble materials for this event must be submitted to CRCA at least seven (7)
  business days prior to the event or at the earliest possible opportunity
 .\n\nHosted by: Student Experiences\n\nAdditional Information can be foun
 d at: https://fiu.campuslabs.com/engage/event/12395535
DTEND:20260421T020000Z
DTSTAMP:20260420T000513Z
DTSTART:20260420T230000Z
LOCATION:Roary's Bay Cafe - BBC
SEQUENCE:0
STATUS:CONFIRMED
SUMMARY:Late Night Breakfast
UID:https://fiu.campuslabs.com/engage/event/12395535
URL:https://fiu.campuslabs.com/engage/event/12395535
X-HOSTS:Student Experiences
END:VEVENT
END:VCALENDAR
