BEGIN:VCALENDAR
PRODID:-//github.com/rianjs/ical.net//NONSGML ical.net 4.0//EN
VERSION:2.0
BEGIN:VEVENT
CATEGORIES:Social
CATEGORIES:Educational
DESCRIPTION:\n\nJoin us for Career Connect’s upcoming General Body Meeting
 ! We’ll be sharing exciting updates\, discussing upcoming events\, and gi
 ving members the chance to get involved in new opportunities. Don’t miss 
 this chance to connect\, network\, and grow with us!\n\n\n \n \n\nHosted 
 by: American Civil Liberties Union (ACLU) Club - For The Panthers\, Caree
 r Connect\n\nOnline Location: https://fiu.zoom.us/j/86837725907\n\nAdditi
 onal Information can be found at: https://fiu.campuslabs.com/engage/event
 /12403218
DTEND:20260420T230000Z
DTSTAMP:20260420T000348Z
DTSTART:20260420T220000Z
LOCATION:Online
SEQUENCE:0
STATUS:CONFIRMED
SUMMARY:General Body Meeting
UID:https://fiu.campuslabs.com/engage/event/12403218
URL:https://fiu.campuslabs.com/engage/event/12403218
X-HOSTS:Career Connect
END:VEVENT
END:VCALENDAR
