BEGIN:VCALENDAR
PRODID:-//github.com/rianjs/ical.net//NONSGML ical.net 4.0//EN
VERSION:2.0
BEGIN:VEVENT
CATEGORIES:Social
CATEGORIES:Engagement
CATEGORIES:Student Organizations
CATEGORIES:Recreation
CATEGORIES:Educational
CATEGORIES:Community
CATEGORIES:Meetings
CATEGORIES:Political
CATEGORIES:Alumni
CATEGORIES:Student Health and Wellness
DESCRIPTION:Join the Panther Historian Organization for a relaxing break f
 rom finals stress!  Take some time to recharge with your fellow students\
 , chat with your professors\, and meet with other history majors.  \nSnac
 ks and drinks will be provided.\n\nHosted by: Panther Historians Organiza
 tion\n\nAdditional Information can be found at: https://fiu.campuslabs.co
 m/engage/event/12412666
DTEND:20260424T193000Z
DTSTAMP:20260424T083943Z
DTSTART:20260424T170000Z
LOCATION:SIPA II Room 301
SEQUENCE:0
STATUS:CONFIRMED
SUMMARY:De-Stress From Finals with PHO
UID:https://fiu.campuslabs.com/engage/event/12412666
URL:https://fiu.campuslabs.com/engage/event/12412666
X-HOSTS:Panther Historians Organization
END:VEVENT
END:VCALENDAR
