BEGIN:VCALENDAR
PRODID:-//github.com/rianjs/ical.net//NONSGML ical.net 4.0//EN
VERSION:2.0
BEGIN:VEVENT
CATEGORIES:Social
DESCRIPTION:Join us in celebrating the end of the school year with Caribbe
 an-inspired food\, drinks\, and music catered by Fin's Kitchen!\n\nHosted
  by: Chemistry Graduate Student Organization\n\nAdditional Information ca
 n be found at: https://fiu.campuslabs.com/engage/event/12423745
DTEND:20260424T183000Z
DTSTAMP:20260424T083836Z
DTSTART:20260424T153000Z
LOCATION:CP 320
SEQUENCE:0
STATUS:CONFIRMED
SUMMARY:Chemists Gone Coastal: End of the year fête
UID:https://fiu.campuslabs.com/engage/event/12423745
URL:https://fiu.campuslabs.com/engage/event/12423745
X-HOSTS:Chemistry Graduate Student Organization
END:VEVENT
END:VCALENDAR
